BEGIN:VCALENDAR
VERSION:2.0
PRODID:-//Sustainable Food Center - ECPv6.15.20//NONSGML v1.0//EN
CALSCALE:GREGORIAN
METHOD:PUBLISH
X-WR-CALNAME:Sustainable Food Center
X-ORIGINAL-URL:https://sustainablefoodcenter.org
X-WR-CALDESC:Events for Sustainable Food Center
REFRESH-INTERVAL;VALUE=DURATION:PT1H
X-Robots-Tag:noindex
X-PUBLISHED-TTL:PT1H
BEGIN:VTIMEZONE
TZID:America/Chicago
BEGIN:DAYLIGHT
TZOFFSETFROM:-0600
TZOFFSETTO:-0500
TZNAME:CDT
DTSTART:20240310T080000
END:DAYLIGHT
BEGIN:STANDARD
TZOFFSETFROM:-0500
TZOFFSETTO:-0600
TZNAME:CST
DTSTART:20241103T070000
END:STANDARD
BEGIN:DAYLIGHT
TZOFFSETFROM:-0600
TZOFFSETTO:-0500
TZNAME:CDT
DTSTART:20250309T080000
END:DAYLIGHT
BEGIN:STANDARD
TZOFFSETFROM:-0500
TZOFFSETTO:-0600
TZNAME:CST
DTSTART:20251102T070000
END:STANDARD
BEGIN:DAYLIGHT
TZOFFSETFROM:-0600
TZOFFSETTO:-0500
TZNAME:CDT
DTSTART:20260308T080000
END:DAYLIGHT
BEGIN:STANDARD
TZOFFSETFROM:-0500
TZOFFSETTO:-0600
TZNAME:CST
DTSTART:20261101T070000
END:STANDARD
END:VTIMEZONE
BEGIN:VEVENT
DTSTART;TZID=America/Chicago:20250809T090000
DTEND;TZID=America/Chicago:20250809T120000
DTSTAMP:20260423T183437
CREATED:20240814T071654Z
LAST-MODIFIED:20251017T052920Z
UID:10000313-1754730000-1754740800@sustainablefoodcenter.org
SUMMARY:SFC Farmers’ Market at Sunset Valley
DESCRIPTION:Visit SFC Farmers’ Market at Sunset Valley and discover Austin’s fresh and vibrant local food scene. We bring together the best local farmers\, ranchers\, food producers\, and artisans committed to offering top-notch products. Explore a wide array of fresh produce and artisanal goods\, knowing that everything is sourced ethically and locally.  \nSNAP and WIC accepted. Please note our summer hours. Market will return to 9:00 AM – 1:00 PM on Saturday\, September 7.
URL:https://sustainablefoodcenter.org/events-calendar/sfc-farmers-market-at-sunset-valley/2025-08-09/
LOCATION:Toney Burger Center\, 3200 Jones Rd\, Austin\, Austin\, 78745\, United States
ATTACH;FMTTYPE=image/jpeg:https://sustainablefoodcenter.org/wp-content/uploads/2024/09/events-sunset.jpg
END:VEVENT
BEGIN:VEVENT
DTSTART;TZID=America/Chicago:20250809T090000
DTEND;TZID=America/Chicago:20250809T120000
DTSTAMP:20260423T183437
CREATED:20250809T233908Z
LAST-MODIFIED:20250810T001543Z
UID:10001020-1754730000-1754740800@sustainablefoodcenter.org
SUMMARY:WIC Redemption Event
DESCRIPTION:Celebrate a bountiful summer at SFC Farmers’ Markets! Join us for a special WIC Voucher Redemption Event\, where families with WIC benefits can redeem their vouchers for fresh\, local produce. \nThis event supports healthy families and thriving local farms—it’s a win-win! Enjoy the vibrant atmosphere and stock up on summer fruits and veggies grown right here in Central Texas. \nNo RSVP required—just come ready to shop and celebrate the season!
URL:https://sustainablefoodcenter.org/events-calendar/wic-redemption-event/
LOCATION:SFC Farmers’ Market Downtown\, 422 Guadalupe St.\, Austin\, TX
ATTACH;FMTTYPE=image/jpeg:https://sustainablefoodcenter.org/wp-content/uploads/2025/08/events-wic-2.jpg
END:VEVENT
BEGIN:VEVENT
DTSTART;TZID=America/Chicago:20250809T090000
DTEND;TZID=America/Chicago:20250809T130000
DTSTAMP:20260423T183437
CREATED:20240814T070755Z
LAST-MODIFIED:20260123T170810Z
UID:10000052-1754730000-1754744400@sustainablefoodcenter.org
SUMMARY:SFC Farmers’ Market Downtown
DESCRIPTION:Visit SFC Farmers’ Market Downtown and discover Austin’s fresh and vibrant local food scene. We bring together the best local farmers\, ranchers\, food producers\, and artisans committed to offering top-notch products. Explore a wide array of fresh produce and artisanal goods\, knowing that everything is sourced ethically and locally.  \nSNAP and WIC accepted. Please note our summer hours. Market will return to 9:00 AM – 1:00 PM on Saturday\, September 7.
URL:https://sustainablefoodcenter.org/events-calendar/sfc-farmers-market-downtown/2025-08-09/
LOCATION:Republic Square\, 422 Guadalupe St\, Austin\, TX\, 78701\, United States
ATTACH;FMTTYPE=image/jpeg:https://sustainablefoodcenter.org/wp-content/uploads/2024/09/events-downtown.jpg
END:VEVENT
END:VCALENDAR